BEGIN:VCALENDAR
VERSION:2.0
PRODID:-//ChamberMaster//Event Calendar 2.0//EN
METHOD:PUBLISH
X-PUBLISHED-TTL:P3D
REFRESH-INTERVAL:P3D
CALSCALE:GREGORIAN
BEGIN:VEVENT
DTSTART:20230322T123000Z
DTEND:20230322T200000Z
X-MICROSOFT-CDO-ALLDAYEVENT:FALSE
SUMMARY:ATTENDEE REGISTRATION NOW OPEN FOR NECSEMA EXPO 2023
DESCRIPTION:DON'T MISS THE NECSEMA ANNUAL EXPO\n\n			NECSEMA 2023 MARCH 22ND\n\n			DCU Center\n\n			Worcester\, MA\n\n			8:30am- 4pm\n\n			*Join us for the NECSEMA 2023 Opening Dinner Tues. March 21\n\n			This year Conference Sessions all morning\, includes breakfast & lunch! Expo Hours 1:00-4:00 pm !\n\n			Conference Schedule: (Titles may change)\n\n			8:30   Breakfast Opening remarks\n\n			1st Sessions - 9:30-10:30 am\n\n			\n				EV Charging   Reality of Transitions\n				Recruiting\, Developing and Retaining a First-Class Team\n			\n\n			2nd Sessions   10:45-11:45am\n\n			\n				M & A Activity in the C-store/Energy Space\n				Menu Optimization/Food Service Strategies\n			\n\n			Lunch   12:00 pm- 12:45 pm\n\n			With Opening Speaker To Be Announced\n\n			\n\n			EXPO Floor Open 1pm - 4pm\n			\n		\n	\n\n\n\n	\n		\n			\n			Join us to Explore the Products and Services that are bringing our Industry Into the Future and hear from Industry Experts about Updates\, Regulations and Issues that effect Your Business!\n\n			This Conference and Expo is FREE for any C-store Retail Operators\n\n			and Energy Marketers to attend!\n\n			Vendors who are not exhibiting will have a cost for a conference pass.\n\n			\n\n			CLICK HERE: ATTENDEE REGISTRATION
X-ALT-DESC;FMTTYPE=text/html:<table border="0" cellpadding="0" cellspacing="0" class="x_text x_text--featureHeading x_text--padding-vertical" style="background-color:rgb(255\, 255\, 255)\; color:rgb(36\, 36\, 36)\; font-family:segoe ui\,segoe ui web (west european)\,segoe ui\,-apple-system\,blinkmacsystemfont\,roboto\,helvetica neue\,sans-serif\; font-size:15px\; font-stretch:inherit\; font-variant-east-asian:inherit\; font-variant-numeric:inherit\; line-height:inherit\; table-layout:fixed\; width:100%">\n	<tbody>\n		<tr>\n			<td>\n			<p style="text-align:center"><strong><span style="color:#0000FF"><em>DON&#39\;T MISS THE NECSEMA ANNUAL EXPO</em></span></strong></p>\n\n			<p style="text-align:center"><span style="color:rgb(233\, 76\, 58) !important\; font-family:inherit\; font-size:18px">NECSEMA 2023 MARCH 22ND</span></p>\n\n			<p style="text-align:center"><span style="color:rgb(0\, 0\, 255) !important\; font-family:inherit\; font-size:18px">DCU Center</span></p>\n\n			<p style="text-align:center"><span style="color:rgb(0\, 0\, 255) !important\; font-family:inherit\; font-size:18px">Worcester\, MA</span></p>\n\n			<p style="text-align:center"><span style="color:rgb(0\, 0\, 255) !important\; font-family:inherit\; font-size:18px">8:30am- 4pm</span></p>\n\n			<p style="text-align:center"><strong><span style="color:#008000"><em>*</em><em>Join us for the NECSEMA 2023 Opening Dinner Tues. March 21</em></span></strong></p>\n\n			<p style="text-align:center"><span style="color:rgb(0\, 0\, 0) !important">This year&nbsp\;</span><span style="color:rgb(0\, 0\, 0) !important\; font-family:inherit\; font-size:14px">Conference Sessions</span><span style="color:rgb(0\, 0\, 0) !important\; font-family:inherit\; font-size:14px">&nbsp\;all morning\, includes breakfast &amp\; lunch! Expo Hours 1:00-4:00 pm !</span></p>\n\n			<p style="text-align:center"><u><strong><span style="color:rgb(0\, 0\, 0) !important\; font-family:lato\,sans-serif\; font-size:12px">Conference Schedule:</span><span style="color:rgb(0\, 0\, 0) !important\; font-family:lato\,sans-serif\; font-size:12px">&nbsp\;(Titles may change)</span></strong></u></p>\n\n			<p><span style="color:rgb(0\, 0\, 0) !important\; font-family:lato\,sans-serif\; font-size:12px">8:30 &ndash\; Breakfast Opening remarks</span></p>\n\n			<p><strong><span style="color:rgb(0\, 0\, 0) !important\; font-family:lato\,sans-serif\; font-size:12px">1st&nbsp\;Sessions -&nbsp\;9:30-10:30 am</span></strong></p>\n\n			<ul>\n				<li><span style="font-family:lato\,sans-serif">EV Charging &ndash\; Reality of Transitions</span></li>\n				<li><span style="font-family:lato\,sans-serif">Recruiting\, Developing and Retaining a First-Class Team</span></li>\n			</ul>\n\n			<p><strong><span style="color:rgb(0\, 0\, 0) !important\; font-family:lato\,sans-serif\; font-size:12px">2nd&nbsp\;Sessions &ndash\; 10:45-11:45am</span></strong></p>\n\n			<ul>\n				<li><span style="font-family:lato\,sans-serif">M &amp\; A Activity in the C-store/Energy Space</span></li>\n				<li><span style="font-family:lato\,sans-serif">Menu Optimization/Food Service Strategies</span></li>\n			</ul>\n\n			<p><strong><span style="color:rgb(0\, 0\, 0) !important\; font-family:lato\,sans-serif\; font-size:12px">Lunch &ndash\; 12:00 pm- 12:45 pm</span></strong></p>\n\n			<p><span style="color:rgb(0\, 0\, 0) !important\; font-family:lato\,sans-serif\; font-size:12px">With Opening Speaker&nbsp\;</span><em>To Be Announced<br />\n			<br />\n			<strong>EXPO Floor Open 1pm - 4pm</strong></em></p>\n			</td>\n		</tr>\n	</tbody>\n</table>\n\n<table border="0" cellpadding="0" cellspacing="0" class="x_text x_text--article x_text--padding-vertical" style="background-color:rgb(255\, 255\, 255)\; color:rgb(36\, 36\, 36)\; font-family:segoe ui\,segoe ui web (west european)\,segoe ui\,-apple-system\,blinkmacsystemfont\,roboto\,helvetica neue\,sans-serif\; font-size:15px\; font-stretch:inherit\; font-variant-east-asian:inherit\; font-variant-numeric:inherit\; line-height:inherit\; table-layout:fixed\; width:100%">\n	<tbody>\n		<tr>\n			<td>\n			<p style="text-align:center"><strong>Join us to Explore the Products and Services that are bringing our Industry Into the Future and hear from Industry Experts about Updates\, Regulations and Issues that effect Your Business!</strong></p>\n\n			<p style="text-align:center"><strong><span style="color:rgb(0\, 0\, 0)\; font-family:inherit\; font-size:16px">This Conference and Expo is FREE for any C-store Retail Operators</span></strong></p>\n\n			<p style="text-align:center"><strong><span style="color:rgb(0\, 0\, 0) !important\; font-family:inherit\; font-size:16px">and Energy Marketers to attend!</span></strong></p>\n\n			<p style="text-align:center"><span style="color:rgb(0\, 0\, 0)\; font-family:inherit\; font-size:13px">Vendors who are not exhibiting will have a cost for a conference pass.</span><br />\n			<br />\n			<span style="color:#FF0000"><strong>CLICK HERE:&nbsp\;</strong></span><u><strong><a href="https://brushfire.com/necsema/necsema2023/548591">ATTENDEE REGISTRATION</a></strong></u></p>\n			</td>\n		</tr>\n	</tbody>\n</table>\n
LOCATION:DCU Center 50 Foster St Worcester\, MA
UID:e.9204.45
SEQUENCE:3
DTSTAMP:20260421T041105Z
URL:http://necsema.memberzone.com/events/details/attendee-registration-now-open-for-necsema-2023-45
END:VEVENT

END:VCALENDAR
