BEGIN:VCALENDAR
VERSION:2.0
PRODID:-//ChamberMaster//Event Calendar 2.0//EN
METHOD:PUBLISH
X-PUBLISHED-TTL:P3D
REFRESH-INTERVAL:P3D
CALSCALE:GREGORIAN
BEGIN:VEVENT
DTSTART:20220609T170000Z
DTEND:20220609T180000Z
X-MICROSOFT-CDO-ALLDAYEVENT:FALSE
SUMMARY:ILLEGAL TOBACCO TASK FORCE Public Meeting via WebEx conferencing
DESCRIPTION:Click here for Public Meeting Agenda: ILLEGAL TOBACCO TASK FORCE Meeting
X-ALT-DESC;FMTTYPE=text/html:Click here for Public Meeting Agenda:&nbsp\;<a href="https://files.constantcontact.com/2f828dea001/7be1efd9-e3e9-40e6-865c-62fcf4e0fa12.pdf?rdr=true">ILLEGAL TOBACCO TASK FORCE Meeting</a>&nbsp\;<br />\n&nbsp\;
LOCATION:Meeting Location: Via WebEx conferencing\, dial (408) 418-9388\, Meeting ID# 2335 614 5510
UID:e.9204.37
SEQUENCE:3
DTSTAMP:20260421T211012Z
URL:http://necsema.memberzone.com/events/details/illegal-tobacco-task-force-public-meeting-via-webex-conferencing-37
END:VEVENT

END:VCALENDAR
