BEGIN:VCALENDAR
VERSION:2.0
PRODID:-//ChamberMaster//Event Calendar 2.0//EN
METHOD:PUBLISH
X-PUBLISHED-TTL:P3D
REFRESH-INTERVAL:P3D
CALSCALE:GREGORIAN
BEGIN:VEVENT
DTSTART:20211118T223000Z
DTEND:20211119T020000Z
X-MICROSOFT-CDO-ALLDAYEVENT:FALSE
SUMMARY:NECSEMA 2021 Annual Meeting & Store Operator Awards Dinner
DESCRIPTION:Join us and Network with the Best of all your industry colleagues and friends. This Annual Event will feature our year end industry updates\, upcoming programs and a celebration of the Winners of the 2021 Store Operator of the Year Awards!\n\n\n\nIndividual/Group Member and Non-member Dinner Tickets Available. For Pricing\, click here: \n\n\n\n*Sponsorships Available! (Some include Dinner Tickets)\n\n\n\nAgenda\n\n5:30 - 6:30 PM:   Cocktail Reception & Networking\n\n6:45 - 9:00 PM:   Dinner/Program\n\n7:00 - 7:25 PM:   NECSEMA Annual Update\n\n7:30 - 8:30 PM:   2021 Store Operator Awards\n\n\n\nREGISTER HERE
X-ALT-DESC;FMTTYPE=text/html:<span style="font-size:14px\;"><span style="font-family:tahoma\;"><span style="color: rgb(36\, 39\, 43)\;">Join us and&nbsp\;</span><strong>Network with the Best</strong><span style="color: rgb(36\, 39\, 43)\;">&nbsp\;of all your industry colleagues and friends. This Annual Event will feature our&nbsp\;</span><em><strong>year end industry updates</strong>\,</em><span style="color: rgb(36\, 39\, 43)\;">&nbsp\;</span><em>upcoming programs&nbsp\;</em><span style="color: rgb(36\, 39\, 43)\;">and a&nbsp\;</span><em>celebration of the&nbsp\;<strong>Winners</strong>&nbsp\;of the&nbsp\;<strong>2021 Store Operator of the Year Awards!</strong></em></span></span><br />\n<br />\n<span style="font-family:tahoma\;"><strong><span style="font-size:20px\;">Individual/Group Member and Non-member Dinner Tickets Available. For Pricing\, click <u><a href="https://necsema.brushfire.com/annualmeetingawardsdinner/517235">here</a></u>:&nbsp\;</span></strong><br />\n<br />\n<span style="color:#FF0000\;"><span style="font-size:20px\;"><strong>*Sponsorships Available!</strong><span helvetica="">&nbsp\;(Some include Dinner Tickets)</span></span></span><br />\n<br />\n<u>Agenda</u><br />\n<span style="color: rgb(36\, 39\, 43)\; font-size: 15px\;">5:30 - 6:30 PM:&nbsp\; &nbsp\;Cocktail Reception &amp\; Networking</span><br />\n<span style="color: rgb(36\, 39\, 43)\; font-size: 15px\;">6:45 - 9:00 PM: &nbsp\; Dinner/Program</span><br />\n<span style="color: rgb(36\, 39\, 43)\; font-size: 15px\;">7:00 - 7:25 PM: &nbsp\; NECSEMA Annual Update</span><br />\n<span style="color: rgb(36\, 39\, 43)\; font-size: 15px\;">7:30 - 8:30 PM:&nbsp\; &nbsp\;2021 Store Operator Awards</span><br />\n<br />\n<u><a href="https://necsema.brushfire.com/annualmeetingawardsdinner/517235"><span style="color:#FF0000\;"><span style="font-size:20px\;"><strong>REGISTER HERE</strong></span></span></a></u></span><br />\n&nbsp\;
LOCATION:Sheraton Four Points Hotel and Conference Center: 1125 Boston-Providence Turnpike Norwood\, Massachusetts 02062
UID:e.9204.30
SEQUENCE:3
DTSTAMP:20260422T162741Z
URL:http://necsema.memberzone.com/events/details/necsema-2021-annual-meeting-store-operator-awards-dinner-30
END:VEVENT

END:VCALENDAR
