BEGIN:VCALENDAR
VERSION:2.0
PRODID:-//ChamberMaster//Event Calendar 2.0//EN
METHOD:PUBLISH
X-PUBLISHED-TTL:P3D
REFRESH-INTERVAL:P3D
CALSCALE:GREGORIAN
BEGIN:VEVENT
DTSTART:20220316T130000Z
DTEND:20220316T200000Z
X-MICROSOFT-CDO-ALLDAYEVENT:FALSE
SUMMARY:Exhibitor Registration NOW OPEN for NECSEMA 2022
DESCRIPTION:TO REGISTER\, CLICK HERE:  NECSEMA 2022 - Exhibitor Registration\n \n\n\n\n\n\n\n\nExhibit in New England's premier conference and expo for the convenience store and transportation fuel industries! NECSEMA 2022 gives you an opportunity to introduce and sell your products or services to convenience store operators and transportation fuel wholesalers from throughout New England!\n\n\n\n\n\n\nFor NECSEMA membership information call Marketing and Membership Director Lisa Lawinger Brown at (781) 297-9600 ext. 4. Membership information is also available online at www.necsema.net.
X-ALT-DESC;FMTTYPE=text/html:<h1>TO REGISTER\, CLICK HERE:&nbsp\;&nbsp\;<u><a href="https://necsema.brushfire.com/necsema2022/523991" style="box-sizing: border-box\; color: rgb(85\, 85\, 85)\; text-decoration-line: none\;"><span style="color:#0000FF\;">NECSEMA 2022 - Exhibitor Registration</span></a></u></h1>\n&nbsp\;\n\n<div>\n<div>\n<div>\n<div>\n<div>\n<div>\n<p><span style="font-size:22.5px"><strong>Exhibit in New England&#39\;s premier conference and expo for the convenience store and transportation fuel industries! NECSEMA 2022 gives you an opportunity to introduce and sell your products or services to convenience store operators and transportation fuel wholesalers from throughout New England!</strong></span></p>\n</div>\n</div>\n</div>\n</div>\n<br />\nFor NECSEMA membership information call Marketing and Membership Director <a href="mailto:lisa@necsema.net?subject=NECSEMA%20Trade%20Show%202022">Lisa Lawinger Brown</a> at <strong>(781) 297-9600</strong>&nbsp\;<strong>ext. 4</strong>. Membership information is also&nbsp\;available online at&nbsp\;<u><a href="https://www.necsema.net/" style="box-sizing: border-box\; color: rgb(243\, 130\, 33)\; text-decoration-line: none\;">www.necsema.net</a></u>.</div>\n</div>\n
LOCATION:MASS MUTUAL CENTER
UID:e.9204.32
SEQUENCE:3
DTSTAMP:20260422T025851Z
URL:http://necsema.memberzone.com/events/details/necsema-2022-exhibitor-registration-32
END:VEVENT

END:VCALENDAR
