BEGIN:VCALENDAR
VERSION:2.0
PRODID:-//ChamberMaster//Event Calendar 2.0//EN
METHOD:PUBLISH
X-PUBLISHED-TTL:P3D
REFRESH-INTERVAL:P3D
CALSCALE:GREGORIAN
BEGIN:VEVENT
DTSTART:20230621T130000Z
DTEND:20230621T210000Z
X-MICROSOFT-CDO-ALLDAYEVENT:FALSE
SUMMARY:NECSEMA 2023 Golf Tournament: Registration is Closed!
DESCRIPTION:NECSEMA 2023 Golf Tournament: Registration is Closed! \n\nOur Annual Golf Tournament will be held at Juniper Hills Golf Course in Northborough\, MA on Wednesday\, June 21st\, 2023 Contests\, Prizes\, Raffle and Great Fun on the Greens! \n\n\nJuniper Hill has two 18 hole golf courses. The NECSEMA Golf Tournament will be played as a 9:00 am shotgun start on the Riverside and Lakeside Courses. When filling out the registration form\, you may indicate with whom you would prefer to golf with and we will try and accommodate\, but we cannot guarantee this arrangement. If you have a complete foursome\, you may indicate this also and list your players and handicaps\n\nCost:                           Member                          Non-Member\n\nBefore May 20th         $250.00 pp                     $275.00 pp\n\nAfter May 20th             $275.00 pp                     $300.00 pp\n\nGolf will include breakfast\, lunch and dinner and the contests on the course will offer cash prizes for the winners. Every Golfer will receive a goody bag filled with great products from our vendors!\n\n*We are offering a 'dinner only' ticket. Please contact Lisa at lisa@necsema.net\n\nWe are bringing back the Goody Bags this year! Any Vendors interested in donating product for the bags\, please contact NECSEMA for details!\n\nNECSEMA will also provide the required instructions for check in prior to the event.\n\nThank you to all of our Sponsors!
X-ALT-DESC;FMTTYPE=text/html:<div style="text-align:center"><strong><span style="color:#FF0000"><span style="font-size:16px">NECSEMA&nbsp\;2023 Golf Tournament: Registration is Closed!&nbsp\;</span></span><br />\nOur&nbsp\;Annual Golf Tournament will be held at&nbsp\;Juniper Hills Golf Course in Northborough\, MA on&nbsp\;Wednesday\, June 21st\, 2023&nbsp\;Contests\,&nbsp\;Prizes\,&nbsp\;Raffle and Great Fun on the Greens</strong><strong>!&nbsp\;</strong></div>\n\n<div>\n<p style="text-align:center"><span style="color:rgb(0\, 89\, 0) !important\; font-family:times new roman\,times\,serif\; font-size:15px">Juniper Hill has two 18 hole golf courses. The NECSEMA Golf Tournament will be played as a&nbsp\;</span><strong>9:00 am shotgun</strong><span style="color:rgb(0\, 89\, 0) !important\; font-family:times new roman\,times\,serif\; font-size:15px">&nbsp\;start on the Riverside and Lakeside Courses. When filling out the registration form\, you may indicate with whom you would prefer to golf with and we will try and accommodate\, but we cannot guarantee this arrangement. If you have a&nbsp\;</span><em>complete foursome</em><span style="color:rgb(0\, 89\, 0) !important\; font-family:times new roman\,times\,serif\; font-size:15px">\, you may indicate this also and&nbsp\;</span><em>list your players and handicaps</em></p>\n\n<p style="text-align:center"><span style="color:rgb(0\, 128\, 0) !important\; font-family:times new roman\,times\,serif\; font-size:15px">Cost:&nbsp\;</span><span style="color:rgb(0\, 128\, 0) !important\; font-family:times new roman\,times\,serif\; font-size:15px">&nbsp\;&nbsp\;&nbsp\;&nbsp\;&nbsp\;&nbsp\;&nbsp\;&nbsp\;&nbsp\;&nbsp\;&nbsp\;&nbsp\;&nbsp\;&nbsp\;&nbsp\;&nbsp\;&nbsp\;&nbsp\;&nbsp\;&nbsp\;&nbsp\;&nbsp\;&nbsp\;&nbsp\;&nbsp\;&nbsp\;</span><span style="color:rgb(0\, 128\, 0) !important\; font-family:times new roman\,times\,serif\; font-size:15px">Member&nbsp\;</span><span style="color:rgb(0\, 128\, 0) !important\; font-family:times new roman\,times\,serif\; font-size:15px">&nbsp\;&nbsp\;&nbsp\;&nbsp\;&nbsp\;&nbsp\;&nbsp\;&nbsp\;&nbsp\;&nbsp\;&nbsp\;&nbsp\;&nbsp\;&nbsp\;&nbsp\;&nbsp\;&nbsp\;&nbsp\;&nbsp\;&nbsp\;&nbsp\;&nbsp\;&nbsp\;&nbsp\;&nbsp\;</span><span style="color:rgb(0\, 128\, 0) !important\; font-family:times new roman\,times\,serif\; font-size:15px">Non-Member</span></p>\n\n<p style="text-align:center"><span style="color:rgb(35\, 106\, 49) !important\; font-family:times new roman\,times\,serif\; font-size:15px">Before May 20th&nbsp\;&nbsp\;&nbsp\;&nbsp\;&nbsp\;&nbsp\;&nbsp\;&nbsp\;&nbsp\;$250.00 pp&nbsp\;&nbsp\;&nbsp\;&nbsp\;&nbsp\;&nbsp\;&nbsp\;&nbsp\;&nbsp\;&nbsp\;&nbsp\;&nbsp\;&nbsp\;&nbsp\;&nbsp\;&nbsp\;&nbsp\;&nbsp\;&nbsp\;&nbsp\;&nbsp\;$275.00 pp</span></p>\n\n<p style="text-align:center"><span style="color:rgb(35\, 106\, 49) !important\; font-family:times new roman\,times\,serif\; font-size:15px">After May 20th&nbsp\;&nbsp\;&nbsp\;&nbsp\;&nbsp\;&nbsp\;&nbsp\;&nbsp\;&nbsp\;&nbsp\;&nbsp\;&nbsp\;&nbsp\;$275.00 pp&nbsp\;&nbsp\;&nbsp\;&nbsp\;&nbsp\;&nbsp\;&nbsp\;&nbsp\;&nbsp\;&nbsp\;&nbsp\;&nbsp\;&nbsp\;&nbsp\;&nbsp\;&nbsp\;&nbsp\;&nbsp\;&nbsp\;&nbsp\;&nbsp\;$300.00 pp</span></p>\n\n<p style="text-align:center"><span style="color:rgb(0\, 0\, 0)\; font-family:times new roman\,times\,serif\; font-size:16px">Golf will include breakfast\, lunch and dinner and the contests on the course will offer cash prizes for the winners. Every Golfer will receive a goody bag filled with great products from our vendors!</span></p>\n\n<p style="text-align:center"><em><strong>*We are offering&nbsp\;a &#39\;dinner only&#39\; ticket. Please contact Lisa</strong> at <strong><a href="mailto:lisa@necsema.net?subject=Golf%20dinner%20only%20ticket">lisa@necsema.net</a></strong></em></p>\n\n<p style="text-align:center"><em>We are bringing back the Goody Bags this year! Any Vendors interested in donating product for the bags\, please contact NECSEMA for details!</em></p>\n\n<p style="text-align:center"><span style="color:rgb(0\, 0\, 0)\; font-family:times new roman\,times\,serif\; font-size:16px">NECSEMA will also provide the required instructions for check in prior to the event.</span></p>\n\n<p style="text-align:center"><span style="font-size:18px"><strong>Thank you to all of our Sponsors!</strong></span></p>\n</div>\n
LOCATION:
UID:e.9204.48
SEQUENCE:3
DTSTAMP:20260420T210830Z
URL:http://necsema.memberzone.com/events/details/necsema-2023-golf-tournament-registration-is-now-open-48
END:VEVENT

END:VCALENDAR
