BEGIN:VCALENDAR
VERSION:2.0
PRODID:-//ChamberMaster//Event Calendar 2.0//EN
METHOD:PUBLISH
X-PUBLISHED-TTL:P3D
REFRESH-INTERVAL:P3D
CALSCALE:GREGORIAN
BEGIN:VEVENT
DTSTART:20210623T120000Z
DTEND:20210623T203000Z
X-MICROSOFT-CDO-ALLDAYEVENT:FALSE
SUMMARY:NECSEMA's Golf Committee invites you to its Annual Golf Tournament on Wednesday\, June 23\, 2021
DESCRIPTION:The Golf Committee invites you to the NECSEMA Golf Tournament at Juniper Hill Golf Course\, Northborough\, MA on June 23\, 2021.\n\n****REGISTRATION IS NOW FULL. PLEASE CLICK HERE TO BE ADDED TO THE WAIT LIST: NECSEMA Golf 2021 Wait List\n\n\nGeneral Information: Juniper Hill has two 18 hole golf courses. The NECSEMA Golf Tournament will be played as a 9:00 AM shotgun start on the Riverside and Lakeside Courses. When filling out the registration form\, you may indicate with whom you would prefer to golf. PLEASE fill in your handicap (and your partners'). NECSEMA's goal is to pair two suppliers with two retailers\, but we cannot guarantee that arrangement and you can submit your own foursome. The maximum handicap is 30. IF YOU DO NOT HAVE A HANDICAP PLEASE give us YOUR average score for 18 holes. \n\n\n\n\nRegister Now before prices increase after May 20\, 2021.\n\n\n	\n		\n			Agenda:\n		\n		\n			 8:00 am - 9:00 am\n			Registration/Continental Breakfast\n		\n		\n			9:00 am - 2:30 pm\n			Golf Tournament/Shotgun/Scramble\n		\n		\n			11:00 am - 1:00 pm\n			Cookout at the Turns\n		\n		\n			2:00 pm - 3:00 pm\n			Cocktail Reception/Hors D'Oeuvres\n		\n		\n			3:00 pm - 4:30 pm\n			Dinner/Awards\n		\n	\n\n\n\nRegister here or to download a hard copy of this Event with Registration form\, please click here.
X-ALT-DESC;FMTTYPE=text/html:<div style="text-align: center\;"><span style="font-size:18px\;"><strong>The Golf Committee invites you to the NECSEMA Golf Tournament at Juniper Hill Golf Course\, Northborough\, MA on June 23\, 2021.<br />\n<span style="color:#FF0000\;">****REGISTRATION IS NOW FULL. PLEASE CLICK HERE TO BE ADDED TO THE WAIT LIST:</span> <u><a href="https://necsema.memberzone.com/eventregistration/register/22">NECSEMA Golf 2021 Wait List</a></u></strong></span></div>\n<br />\n<strong>General Information:</strong> Juniper Hill has two 18 hole golf courses. The NECSEMA Golf Tournament will be played as a 9:00 AM shotgun start on the Riverside and Lakeside Courses. When filling out the registration form\, you may indicate with whom you would prefer to golf. PLEASE fill in your handicap (and your partners&#39\;). NECSEMA&#39\;s goal is to pair two suppliers with two retailers\, but we cannot guarantee that arrangement and you can submit your own foursome. The maximum handicap is 30. IF YOU DO NOT HAVE A HANDICAP PLEASE give us YOUR average score for 18 holes.&nbsp\;\n\n<div class="page" title="Page 1">\n<div class="layoutArea">\n<div class="column">\n<p><span style="font-size: 16pt\; font-family: Georgia\; font-weight: 700\; font-style: italic\;">Register Now before prices increase after May 20\, 2021.</span></p>\n\n<table border="1" cellpadding="1" cellspacing="1" style="width:500px\;">\n	<tbody>\n		<tr>\n			<td colspan="2"><u><strong>Agenda:</strong></u></td>\n		</tr>\n		<tr>\n			<td>&#8203\;8:00 am - 9:00 am</td>\n			<td>Registration/Continental Breakfast</td>\n		</tr>\n		<tr>\n			<td>9:00 am - 2:30 pm</td>\n			<td>Golf Tournament/Shotgun/Scramble</td>\n		</tr>\n		<tr>\n			<td>11:00 am - 1:00 pm</td>\n			<td>Cookout at the Turns</td>\n		</tr>\n		<tr>\n			<td>2:00 pm - 3:00 pm</td>\n			<td>Cocktail Reception/Hors D&#39\;Oeuvres</td>\n		</tr>\n		<tr>\n			<td>3:00 pm - 4:30 pm</td>\n			<td>Dinner/Awards</td>\n		</tr>\n	</tbody>\n</table>\n<br />\n<span style="font-family: arial\; font-size: 18px\;">Register </span><a href="https://necsema.memberzone.com/eventregistration/register/22"><strong style="font-family: arial\; font-size: 18px\;"><u>here</u></strong></a><span style="font-family: arial\; font-size: 18px\;"> or to download a hard copy of this Event with Registration form\, please click </span><strong><span style="font-size:18px\;"><u><a href="https://chambermaster.blob.core.windows.net/userfiles/UserFiles/chambers/9204/File/NECSEMAGolf2021Invite.pdf">here</a></u>.</span></strong></div>\n</div>\n</div>\n
LOCATION:****REGISTRATION IS NOW FULL. PLEASE CLICK HERE TO BE ADDED TO THE WAIT LIST: NECSEMA Golf 2021 Wait List Juniper Hill Golf Course
UID:e.9204.22
SEQUENCE:3
DTSTAMP:20260422T212005Z
URL:http://necsema.memberzone.com/events/details/necsema-s-golf-committee-invites-you-to-its-annual-golf-tournament-on-wednesday-june-23-2021-22
END:VEVENT

END:VCALENDAR
