BEGIN:VCALENDAR
VERSION:2.0
PRODID:-//ChamberMaster//Event Calendar 2.0//EN
METHOD:PUBLISH
X-PUBLISHED-TTL:P3D
REFRESH-INTERVAL:P3D
CALSCALE:GREGORIAN
BEGIN:VEVENT
DTSTART:20220315T133000Z
DTEND:20220315T200000Z
X-MICROSOFT-CDO-ALLDAYEVENT:FALSE
SUMMARY:NECSEMA's Top to Top Summit Meetings
DESCRIPTION:2022 Top to Top Summit Meetings\n\nWANT TO DOUBLE YOUR EXPOSURE\n\nAT THE NECSEMA TRADE SHOW?\n\n \n\nParticipate in NECSEMA'S TOP TO TOP MEETINGS\n\nTuesday\, March 15\, 2022\n\nMass Mutual Center\n\nSpringfield\, MA\n\n \n\n**Limited to 12 Vendors\, first come first serve\, Must have a new product/programs/services to introduce if previously participated in this program.\n\n \n\nWhat Are "Top to Top" Meetings?\n\nOn March 15th the day before NECSEMA's Trade Show\, we will host private\n\n20 minute meetings between up to 10 key retail companies and 12 manufacturers to\n\nreview new opportunities\, products and services. These meetings give both\n\nparties an opportunity to focus and achieve a lot in a short amount of time.\n\nThe cost to participate is $1\,800 and spaces are reserved on a first come\, first serve basis. Reserve your spot today!\n\n \n\nWhy Should My Company Participate?\n\nThe format of short\, private meetings gives your company an advantage in\n\na competitive market and the opportunity to completely focus on your\n\ncompany's 2022 programs\, new items\, services and promotional ideas.\n\nIn one business day\, you can accomplish securing face-to-face interaction\n\nwith retailers you might not see often\, or ever!\n\nTop to Top Vendor Info\n\n \n\nRetailer Buyers Already Committed :\n\nGlobal LP\, Nouria Energy\, Energy North\, Yatco Energy\, Lipton Energy\, Rusty Lantern\, Volta Oil\, EG/Cumberland Farms\, Champlain Farms\n\n \n\n*Registration for this program available in the online link below\n\nTop to Top Registration\n\n*Located under Promotional Opportunities area
X-ALT-DESC;FMTTYPE=text/html:<p align="center" style="margin: 0px\; padding: 0px\; color: rgb(64\, 63\, 66)\; font-family: Arial\, Verdana\, Helvetica\, sans-serif\; font-size: 12px\; text-align: center\;"><u><a href="https://necsema.brushfire.com/necsema2022/524325"><span style="font-size: 24px\; color: rgb(24\, 26\, 226)\; font-family: Calibri\, Helvetica\, Arial\, sans-serif\; font-weight: bold\;">2022 Top to Top Summit Meetings</span></a></u></p>\n\n<p align="center" style="margin: 0px\; padding: 0px\; color: rgb(64\, 63\, 66)\; font-family: Arial\, Verdana\, Helvetica\, sans-serif\; font-size: 12px\; text-align: center\;"><span style="font-size: 16px\; color: rgb(24\, 26\, 226)\; font-family: Calibri\, Helvetica\, Arial\, sans-serif\; font-weight: bold\;">WANT TO DOUBLE YOUR EXPOSURE</span></p>\n\n<p align="center" style="margin: 0px\; padding: 0px\; color: rgb(64\, 63\, 66)\; font-family: Arial\, Verdana\, Helvetica\, sans-serif\; font-size: 12px\; text-align: center\;"><span style="font-size: 16px\; color: rgb(24\, 26\, 226)\; font-family: Calibri\, Helvetica\, Arial\, sans-serif\; font-weight: bold\;">AT THE NECSEMA TRADE SHOW?</span></p>\n\n<p align="center" style="margin: 0px\; padding: 0px\; color: rgb(64\, 63\, 66)\; font-family: Arial\, Verdana\, Helvetica\, sans-serif\; font-size: 12px\; text-align: center\;">&nbsp\;</p>\n\n<p align="center" style="margin: 0px\; padding: 0px\; color: rgb(64\, 63\, 66)\; font-family: Arial\, Verdana\, Helvetica\, sans-serif\; font-size: 12px\; text-align: center\;"><span style="font-size: 14px\; color: rgb(146\, 21\, 31)\; font-family: Calibri\, Helvetica\, Arial\, sans-serif\; font-weight: bold\;">Participate in&nbsp\;NECSEMA&#39\;S TOP TO TOP MEETINGS</span></p>\n\n<p align="center" style="margin: 0px\; padding: 0px\; color: rgb(64\, 63\, 66)\; font-family: Arial\, Verdana\, Helvetica\, sans-serif\; font-size: 12px\; text-align: center\;"><span style="font-size: 14px\; color: rgb(37\, 141\, 35)\; font-family: Calibri\, Helvetica\, Arial\, sans-serif\; font-style: italic\; font-weight: bold\;">Tuesday\, March 15\, 2022</span></p>\n\n<p align="center" style="margin: 0px\; padding: 0px\; color: rgb(64\, 63\, 66)\; font-family: Arial\, Verdana\, Helvetica\, sans-serif\; font-size: 12px\; text-align: center\;"><span style="font-size: 14px\; color: rgb(37\, 141\, 35)\; font-family: Calibri\, Helvetica\, Arial\, sans-serif\; font-weight: bold\;">Mass Mutual Center</span></p>\n\n<p align="center" style="margin: 0px\; padding: 0px\; color: rgb(64\, 63\, 66)\; font-family: Arial\, Verdana\, Helvetica\, sans-serif\; font-size: 12px\; text-align: center\;"><span style="font-size: 14px\; color: rgb(37\, 141\, 35)\; font-family: Calibri\, Helvetica\, Arial\, sans-serif\; font-weight: bold\;">Springfield\, MA</span></p>\n\n<p align="center" style="margin: 0px\; padding: 0px\; color: rgb(64\, 63\, 66)\; font-family: Arial\, Verdana\, Helvetica\, sans-serif\; font-size: 12px\; text-align: center\;"><span style="font-size: 13px\; color: rgb(0\, 0\, 0)\; font-family: Calibri\, Helvetica\, Arial\, sans-serif\;">&nbsp\;</span></p>\n\n<p style="margin: 0px\; padding: 0px\; color: rgb(64\, 63\, 66)\; font-family: Arial\, Verdana\, Helvetica\, sans-serif\; font-size: 12px\; text-align: center\;"><span style="font-size: 13px\; color: rgb(0\, 0\, 0)\; font-style: italic\; font-family: Calibri\, Helvetica\, Arial\, sans-serif\;">**Limited to 12 Vendors\, first come first serve\, Must have a new product/programs/services to introduce if previously participated in this program.</span></p>\n\n<p style="margin: 0px\; padding: 0px\; color: rgb(64\, 63\, 66)\; font-family: Arial\, Verdana\, Helvetica\, sans-serif\; font-size: 12px\;">&nbsp\;</p>\n\n<p align="center" style="margin: 0px\; padding: 0px\; color: rgb(64\, 63\, 66)\; font-family: Arial\, Verdana\, Helvetica\, sans-serif\; font-size: 12px\; text-align: center\;"><span style="font-size: 13px\; color: rgb(24\, 26\, 226)\; font-family: Calibri\, Helvetica\, Arial\, sans-serif\; font-style: italic\; font-weight: bold\;">What Are &quot\;Top to Top&quot\; Meetings?</span></p>\n\n<p align="center" style="margin: 0px\; padding: 0px\; color: rgb(64\, 63\, 66)\; font-family: Arial\, Verdana\, Helvetica\, sans-serif\; font-size: 12px\; text-align: center\;"><span style="font-size: 13px\; font-family: Calibri\, Helvetica\, Arial\, sans-serif\; color: rgb(0\, 0\, 0)\;">On March 15th the day before NECSEMA&#39\;s Trade Show\, we will host private</span></p>\n\n<p align="center" style="margin: 0px\; padding: 0px\; color: rgb(64\, 63\, 66)\; font-family: Arial\, Verdana\, Helvetica\, sans-serif\; font-size: 12px\; text-align: center\;"><span style="font-size: 13px\; font-family: Calibri\, Helvetica\, Arial\, sans-serif\; color: rgb(0\, 0\, 0)\;">20 minute meetings between up to 10 key retail companies and 12 manufacturers to</span></p>\n\n<p align="center" style="margin: 0px\; padding: 0px\; color: rgb(64\, 63\, 66)\; font-family: Arial\, Verdana\, Helvetica\, sans-serif\; font-size: 12px\; text-align: center\;"><span style="font-size: 13px\; font-family: Calibri\, Helvetica\, Arial\, sans-serif\; color: rgb(0\, 0\, 0)\;">review new opportunities\, products and services. These meetings give both</span></p>\n\n<p align="center" style="margin: 0px\; padding: 0px\; color: rgb(64\, 63\, 66)\; font-family: Arial\, Verdana\, Helvetica\, sans-serif\; font-size: 12px\; text-align: center\;"><span style="font-size: 13px\; font-family: Calibri\, Helvetica\, Arial\, sans-serif\; color: rgb(0\, 0\, 0)\;">parties an opportunity to focus and achieve a lot in a short amount of time.</span></p>\n\n<p align="center" style="margin: 0px\; padding: 0px\; color: rgb(64\, 63\, 66)\; font-family: Arial\, Verdana\, Helvetica\, sans-serif\; font-size: 12px\; text-align: center\;"><span style="font-size: 13px\; font-family: Calibri\, Helvetica\, Arial\, sans-serif\; color: rgb(0\, 0\, 0)\;">The cost to participate is $1\,800 and spaces are&nbsp\;reserved on a first come\, first serve basis. Reserve your spot today!</span></p>\n\n<p align="center" style="margin: 0px\; padding: 0px\; color: rgb(64\, 63\, 66)\; font-family: Arial\, Verdana\, Helvetica\, sans-serif\; font-size: 12px\; text-align: center\;">&nbsp\;</p>\n\n<p align="center" style="margin: 0px\; padding: 0px\; color: rgb(64\, 63\, 66)\; font-family: Arial\, Verdana\, Helvetica\, sans-serif\; font-size: 12px\; text-align: center\;"><span style="font-size: 13px\; color: rgb(24\, 26\, 226)\; font-family: Calibri\, Helvetica\, Arial\, sans-serif\; font-weight: bold\;">Why Should My Company Participate?</span></p>\n\n<p align="center" style="margin: 0px\; padding: 0px\; color: rgb(64\, 63\, 66)\; font-family: Arial\, Verdana\, Helvetica\, sans-serif\; font-size: 12px\; text-align: center\;"><span style="font-size: 13px\; font-family: Calibri\, Helvetica\, Arial\, sans-serif\; color: rgb(0\, 0\, 0)\;">The format of short\, private meetings gives your company an advantage in</span></p>\n\n<p align="center" style="margin: 0px\; padding: 0px\; color: rgb(64\, 63\, 66)\; font-family: Arial\, Verdana\, Helvetica\, sans-serif\; font-size: 12px\; text-align: center\;"><span style="font-size: 13px\; font-family: Calibri\, Helvetica\, Arial\, sans-serif\; color: rgb(0\, 0\, 0)\;">a competitive market and the opportunity to completely focus on your</span></p>\n\n<p align="center" style="margin: 0px\; padding: 0px\; color: rgb(64\, 63\, 66)\; font-family: Arial\, Verdana\, Helvetica\, sans-serif\; font-size: 12px\; text-align: center\;"><span style="font-size: 13px\; font-family: Calibri\, Helvetica\, Arial\, sans-serif\; color: rgb(0\, 0\, 0)\;">company&#39\;s 2022 programs\, new items\, services and promotional ideas.</span></p>\n\n<p align="center" style="margin: 0px\; padding: 0px\; color: rgb(64\, 63\, 66)\; font-family: Arial\, Verdana\, Helvetica\, sans-serif\; font-size: 12px\; text-align: center\;"><span style="font-size: 13px\; font-family: Calibri\, Helvetica\, Arial\, sans-serif\; color: rgb(0\, 0\, 0)\;">In one business day\, you can accomplish securing face-to-face interaction</span></p>\n\n<p align="center" style="margin: 0px\; padding: 0px\; color: rgb(64\, 63\, 66)\; font-family: Arial\, Verdana\, Helvetica\, sans-serif\; font-size: 12px\; text-align: center\;"><span style="font-size: 13px\; font-family: Calibri\, Helvetica\, Arial\, sans-serif\; color: rgb(0\, 0\, 0)\;">with retailers you might not see often\, or eve</span><span style="font-size: 13px\; font-family: Calibri\, Helvetica\, Arial\, sans-serif\;">r!</span></p>\n\n<p align="center" style="margin: 0px\; padding: 0px\; color: rgb(64\, 63\, 66)\; font-family: Arial\, Verdana\, Helvetica\, sans-serif\; font-size: 12px\; text-align: center\;"><strong><u><a href="https://files.constantcontact.com/2f828dea001/2fd8bae1-ac62-4d25-b2bf-6cb8b22b41b8.pdf?rdr=true" style="color: rgb(43\, 148\, 171)\; font-family: Calibri\, Helvetica\, Arial\, sans-serif\;" target="_blank">Top to Top Vendor Info</a></u></strong></p>\n\n<p align="center" style="margin: 0px\; padding: 0px\; color: rgb(64\, 63\, 66)\; font-family: Arial\, Verdana\, Helvetica\, sans-serif\; font-size: 12px\; text-align: center\;">&nbsp\;</p>\n\n<p align="center" style="margin: 0px\; padding: 0px\; color: rgb(64\, 63\, 66)\; font-family: Arial\, Verdana\, Helvetica\, sans-serif\; font-size: 12px\; text-align: center\;"><span style="text-decoration-line: underline\; font-family: Calibri\, Helvetica\, Arial\, sans-serif\; font-weight: bold\; font-size: 14px\;">Retailer Buyers Already Committed&#65279\;:</span></p>\n\n<p style="margin: 0px\; padding: 0px\; color: rgb(64\, 63\, 66)\; font-family: Arial\, Verdana\, Helvetica\, sans-serif\; font-size: 12px\; text-align: center\;"><span style="color: rgb(0\, 0\, 0)\; font-size: 14px\;">Global LP\, Nouria Energy\, Energy North\, Yatco Energy\, Lipton Energy\, Rusty Lantern\, Volta Oil\, EG/Cumberland Farms\, Champlain Farms</span></p>\n\n<p align="center" style="margin: 0px\; padding: 0px\; color: rgb(64\, 63\, 66)\; font-family: Arial\, Verdana\, Helvetica\, sans-serif\; font-size: 12px\; text-align: center\;">&nbsp\;</p>\n\n<p align="center" style="margin: 0px\; padding: 0px\; color: rgb(64\, 63\, 66)\; font-family: Arial\, Verdana\, Helvetica\, sans-serif\; font-size: 12px\; text-align: center\;"><span style="font-family: Calibri\, Helvetica\, Arial\, sans-serif\;">*Registration for this program available in the online link below</span></p>\n\n<p align="center" style="margin: 0px\; padding: 0px\; color: rgb(64\, 63\, 66)\; font-family: Arial\, Verdana\, Helvetica\, sans-serif\; font-size: 12px\; text-align: center\;"><u><a href="https://necsema.brushfire.com/necsema2022/524325" style="font-size: 16px\; color: rgb(24\, 26\, 226)\; font-weight: bold\;" target="_blank">Top to Top Registration</a></u></p>\n\n<p align="center" style="margin: 0px\; padding: 0px\; color: rgb(64\, 63\, 66)\; font-family: Arial\, Verdana\, Helvetica\, sans-serif\; font-size: 12px\; text-align: center\;"><span style="color: rgb(24\, 26\, 226)\;">*Located under Promotional Opportunities area</span></p>\n
LOCATION:Mass Mutual Center
UID:e.9204.34
SEQUENCE:3
DTSTAMP:20260422T044415Z
URL:http://necsema.memberzone.com/events/details/necsema-s-top-to-top-summit-meetings-34
END:VEVENT

END:VCALENDAR
