BEGIN:VCALENDAR
VERSION:2.0
PRODID:-//ChamberMaster//Event Calendar 2.0//EN
METHOD:PUBLISH
X-PUBLISHED-TTL:P3D
REFRESH-INTERVAL:P3D
CALSCALE:GREGORIAN
BEGIN:VEVENT
DTSTART;VALUE=DATE:20230328
DTEND;VALUE=DATE:20230404
TRANSP:TRANSPARENT
X-MICROSOFT-CDO-ALLDAYEVENT:TRUE
SUMMARY:Place your ad today in NECSEMA ENERGY\, an Advertising Quarterly that reaches over 2\,000 C-store & Energy Marketers throughout New England!
DESCRIPTION:NECSEMA Energy is our digital magazine of advertisers and is distributed to over 2\,000 unique email addresses across New England. Embed links in your Ad to videos and your website to bring your company's product or service to life. This digital magazine is distributed widely and available to all members and non-members from our web site. Click here to see the Winter edition of NECSEMA Energy.\n\n \n\nTake advantage of this opportunity to reach New England convenience stores\, gas stations\, energy marketers and industry vendors. You can order your ad space by filling out the online Order Form.\n\n \n\nThis is a cost-effective way to broadcast your message and capabilities to potential customers and clients!  Companies that placed full-page ads in the 2023 Membership Directory are included in NECSEMA Energy at no charge. The deadline to submit your advertisement is March 31st\, so don't wait!!
X-ALT-DESC;FMTTYPE=text/html:<p style="margin: 0px\; padding: 0px\; color: rgb(35\, 35\, 35)\; font-family: Arial\, Verdana\, Helvetica\, sans-serif\; font-size: 12px\; white-space: pre-wrap\; background-color: rgb(255\, 255\, 255)\;"><span style="font-size:20px\;"><span style="font-family:tahoma\;"><span style="color: rgb(0\, 0\, 0)\; font-weight: bold\; font-style: italic\;">NECSEMA Energy</span><span style="color: rgb(0\, 0\, 0)\;"> is our digital magazine of advertisers and is distributed to over </span><span style="color: rgb(0\, 0\, 0)\; font-weight: bold\;">2\,000 unique email addresses</span><span style="color: rgb(0\, 0\, 0)\;"> across New England. Embed links in your Ad to videos and your website to bring your company&#39\;s product or service to life.&nbsp\;This digital magazine is distributed widely and available to all members and non-members from our web site. <u><strong><a href="https://necsema.dcatalog.com/v/Winter-2023-Vol-8/">Click here</a></strong></u> to see the <strong>Winter edition</strong> of NECSEMA Energy</span></span></span><a data-link-type="undefined" href="https://necsema.dcatalog.com/v/Newsletter-Spring-2021/?page=1" new="" style="text-decoration-line: none\; color: rgb(0\, 0\, 0)\; font-size: 14px\; font-family: Georgia\, " target="_blank" times="">.</a></p>\n\n<p style="margin: 0px\; padding: 0px\; color: rgb(35\, 35\, 35)\; font-family: Arial\, Verdana\, Helvetica\, sans-serif\; font-size: 12px\; white-space: pre-wrap\; background-color: rgb(255\, 255\, 255)\;">&nbsp\;</p>\n\n<p style="margin: 0px\; padding: 0px\; color: rgb(35\, 35\, 35)\; font-family: Arial\, Verdana\, Helvetica\, sans-serif\; font-size: 12px\; white-space: pre-wrap\; background-color: rgb(255\, 255\, 255)\;"><span style="font-size:20px\;"><span style="font-family:tahoma\;"><span style="color: rgb(0\, 0\, 0)\;">Take advantage of this opportunity to reach New England convenience stores\, gas stations\, energy marketers and industry vendors. You can order your ad space by filling out the <u><strong><a href="https://necsema.memberzone.com/eventregistration/register/47">online Order Form</a></strong></u>.</span></span></span></p>\n\n<p style="margin: 0px\; padding: 0px\; color: rgb(35\, 35\, 35)\; font-family: Arial\, Verdana\, Helvetica\, sans-serif\; font-size: 12px\; white-space: pre-wrap\; background-color: rgb(255\, 255\, 255)\;">&nbsp\;</p>\n\n<p style="margin: 0px\; padding: 0px\; color: rgb(35\, 35\, 35)\; font-family: Arial\, Verdana\, Helvetica\, sans-serif\; font-size: 12px\; white-space: pre-wrap\; background-color: rgb(255\, 255\, 255)\;"><span style="font-size:20px\;"><span style="font-family:tahoma\;"><span style="color: rgb(14\, 14\, 14)\;">This is a cost-effective way to broadcast your message and capabilities to potential customers and clients! </span></span></span><span style="font-size:20px\;"><span style="font-family:tahoma\;"><span style="color: rgb(14\, 14\, 14)\;">&#65279\;</span></span></span><span style="font-size:20px\;"><span style="font-family:tahoma\;"><span style="color: rgb(14\, 14\, 14)\;">Companies that placed full-page ads in the 2023 Membership Directory are included in NECSEMA Energy at no charge. </span></span></span><span style="font-family: tahoma\; font-size: 20px\; color: rgb(14\, 14\, 14)\; font-weight: bold\;">The deadline to submit your advertisement is </span><span style="font-family: tahoma\; font-size: 20px\; color: rgb(14\, 14\, 14)\; font-weight: bold\; text-decoration-line: underline\;">March 31st</span><span style="font-family: tahoma\; font-size: 20px\; color: rgb(14\, 14\, 14)\; font-weight: bold\;">\, so don&#39\;t wait!!</span></p>\n
LOCATION:NECSEMA Energy will be widely distributed by email as well as available to all members and non-members from our web site.
UID:e.9204.47
SEQUENCE:3
DTSTAMP:20260421T010705Z
URL:http://necsema.memberzone.com/events/details/place-your-ad-today-in-necsema-energy-an-advertising-quarterly-that-reaches-over-2-000-c-store-energy-marketers-throughout-new-england-03-28-2023-47
END:VEVENT

END:VCALENDAR
