BEGIN:VCALENDAR
VERSION:2.0
PRODID:-//ChamberMaster//Event Calendar 2.0//EN
METHOD:PUBLISH
X-PUBLISHED-TTL:P3D
REFRESH-INTERVAL:P3D
CALSCALE:GREGORIAN
BEGIN:VEVENT
DTSTART:20210519T133000Z
DTEND:20210519T163000Z
X-MICROSOFT-CDO-ALLDAYEVENT:FALSE
SUMMARY:Prepared Foods/ Healthy Snacks/Grab and Go
DESCRIPTION:The Virtual Vendor Meeting series was developed by NECSEMA as an answer to challenges caused by COVID-related travel and meeting restrictions imposed by state government and individual company policies. This opportunity is open to only 6 vendors and up to 10 retail buyers. Please note that there will be one Zoom meeting room dedicated to all of our Independent Retail members participating in this event. Our goal is to deliver on our promise to provide networking opportunities for our valued members. \n\nRetailers who are interested in signing up please register here or contact lisa@necsema.net.\n\nVendors who are interested in participating in the Prepared Foods category for your products and services please contact Lisa for an application form and other details.\n\nProcess: Each Vendor will host their own Zoom room for the entire 2 hours. Retailers will rotate in and out of each room every 15 minutes per the provided schedule. Please be prompt in exiting and entering each room as time is limited. You may send product samples in advance.
X-ALT-DESC;FMTTYPE=text/html:<p font-size:="" new="" style="color: rgb(0\, 0\, 0)\; text-align: justify\;" times=""><span style="font-family:arial\;"><span style="font-size:18px\;">The Virtual Vendor Meeting series was developed by NECSEMA as an answer to challenges caused by COVID-related travel and meeting restrictions imposed by state government and individual company policies. <span style="color: rgb(0\, 0\, 0)\;">This opportunity is</span></span></span><span font-size:="" new="" style="color: rgb(0\, 0\, 0)\; font-family: " times=""><span style="font-size:18px\;"><span style="font-family:arial\;">&nbsp\;open to only 6 vendors and up to 10 retail buyers.</span></span>&nbsp\;<span style="font-size:18px\;"><span style="font-family:arial\;">Please note that there will be one Zoom meeting room dedicated to all of&nbsp\;our Independent Retail&nbsp\;members participating in this event</span></span>.&nbsp\;</span><span style="font-family:arial\;"><span style="font-size:18px\;">Our goal is to deliver on our promise to provide networking opportunities for our valued members. </span></span></p>\n\n<p font-size:="" new="" style="color: rgb(0\, 0\, 0)\; font-family: " times=""><span style="font-size:18px\;"><span style="font-family:arial\;">Retailers who are interested in signing up please <u><strong><a href="https://necsema.memberzone.com/eventregistration/register/19">register here</a></strong></u> or contact <u><strong><a href="mailto:lisa@necsema.net">lisa@necsema.net</a></strong></u>.</span></span></p>\n\n<p font-size:="" new="" style="color: rgb(0\, 0\, 0)\; font-family: " times=""><span style="font-size:18px\;"><span style="font-family:arial\;">Vendors who are interested in participating in the <em><strong>Prepared Foods</strong></em>&nbsp\;category for your products and services please contact Lisa for an <u><strong><a href="https://chambermaster.blob.core.windows.net/userfiles/UserFiles/chambers/9204/File/VendorVVMInvite2021.pdf">application form</a></strong></u>&nbsp\;and other details.</span></span></p>\n\n<p style="color: rgb(32\, 31\, 30)\; font-size: 11pt\; font-family: Calibri\, sans-serif\; margin: 0px\;"><span style="font-family:arial\;"><span style="font-size:18px\;"><b><u>Process</u></b>: Each Vendor will host their own Zoom room for the entire 2 hours. Retailers will rotate in and out of each room every 15 minutes per the provided schedule. Please be prompt in exiting and entering each room as time is limited. You may send product samples in advance.</span></span><br />\n<br />\n&nbsp\;</p>\n
LOCATION:This virtual meeting to be hosted using Zoom. The Zoom meeting codes will be provided the week before the meetings.
UID:e.9204.19
SEQUENCE:3
DTSTAMP:20260423T020055Z
URL:http://necsema.memberzone.com/events/details/prepared-foods-healthy-snacks-grab-and-go-19
END:VEVENT

END:VCALENDAR
