BEGIN:VCALENDAR
VERSION:2.0
PRODID:-//ChamberMaster//Event Calendar 2.0//EN
METHOD:PUBLISH
X-PUBLISHED-TTL:P3D
REFRESH-INTERVAL:P3D
CALSCALE:GREGORIAN
BEGIN:VEVENT
DTSTART:20231012T170000Z
DTEND:20231012T183000Z
X-MICROSOFT-CDO-ALLDAYEVENT:FALSE
SUMMARY:Stop the Bans\, Keep New Hampshire Free
DESCRIPTION:A discussion about the Biden-Harris Federal overreach that will kill the New Hampshire Advantage\n\n\n\nHosts: New England Convenience Store & Energy Marketers Association and NH Journal\n\n\nParticipants:\n\n\n	Michael Graham\, New Hampshire Journal (moderator)\n	Peter Brennan\, Executive Director of New England Convenient Store and Energy Marketers Association (Panelist)\n	Drew Cline\, President of Josiah Bartlett Institute (Panelist)\n	Edgar Domenech\, former Sheriff of New York City and Deputy Director & Chief Operating Officer at ATF\n\nAgenda:\n\n1:00-1:30pm Networking Reception\n\n1:30-1:35pm Welcome remarks\n\n1:35-1:45pm Keynote\n\n1:45-2:30pm Panel Discussion\n\n2:30pm         Event Concludes
X-ALT-DESC;FMTTYPE=text/html:<div><strong>A discussion about the Biden-Harris Federal overreach that will kill the New Hampshire Advantage</strong></div>\n\n<div><br />\nHosts: New England Convenience Store &amp\; Energy Marketers Association and&nbsp\;NH Journal</div>\n<br />\n<u><strong>Participants:</strong></u>\n\n<ul>\n	<li><strong>Michael Graham</strong>\, New Hampshire Journal (moderator)</li>\n	<li><strong>Peter Brennan</strong>\, Executive Director of New England Convenient Store and Energy Marketers Association (Panelist)</li>\n	<li><strong>Drew Cline</strong>\, President of Josiah Bartlett Institute (Panelist)</li>\n	<li><strong>Edgar Domenech</strong>\, former Sheriff of New York City and Deputy Director &amp\; Chief Operating Officer at ATF</li>\n</ul>\n<u><strong>Agenda:</strong></u><br />\n1:00-1:30pm Networking Reception<br />\n1:30-1:35pm Welcome remarks<br />\n1:35-1:45pm Keynote<br />\n1:45-2:30pm Panel Discussion<br />\n2:30pm&nbsp\; &nbsp\; &nbsp\; &nbsp\; &nbsp\;Event Concludes
LOCATION:New Hampshire Institute of Politics and Saint Anselm College
UID:e.9204.55
SEQUENCE:3
DTSTAMP:20260420T162346Z
URL:http://necsema.memberzone.com/events/details/stop-the-bans-keep-new-hampshire-free-55
END:VEVENT

END:VCALENDAR
